BEGIN:VCALENDAR
VERSION:2.0
PRODID:-//Jeune Chambre de Drummond - ECPv6.15.20//NONSGML v1.0//EN
CALSCALE:GREGORIAN
METHOD:PUBLISH
X-ORIGINAL-URL:https://jcdrummond.ca
X-WR-CALDESC:Évènements pour Jeune Chambre de Drummond
REFRESH-INTERVAL;VALUE=DURATION:PT1H
X-Robots-Tag:noindex
X-PUBLISHED-TTL:PT1H
BEGIN:VTIMEZONE
TZID:America/New_York
BEGIN:DAYLIGHT
TZOFFSETFROM:-0500
TZOFFSETTO:-0400
TZNAME:EDT
DTSTART:20250309T070000
END:DAYLIGHT
BEGIN:STANDARD
TZOFFSETFROM:-0400
TZOFFSETTO:-0500
TZNAME:EST
DTSTART:20251102T060000
END:STANDARD
BEGIN:DAYLIGHT
TZOFFSETFROM:-0500
TZOFFSETTO:-0400
TZNAME:EDT
DTSTART:20260308T070000
END:DAYLIGHT
BEGIN:STANDARD
TZOFFSETFROM:-0400
TZOFFSETTO:-0500
TZNAME:EST
DTSTART:20261101T060000
END:STANDARD
BEGIN:DAYLIGHT
TZOFFSETFROM:-0500
TZOFFSETTO:-0400
TZNAME:EDT
DTSTART:20270314T070000
END:DAYLIGHT
BEGIN:STANDARD
TZOFFSETFROM:-0400
TZOFFSETTO:-0500
TZNAME:EST
DTSTART:20271107T060000
END:STANDARD
END:VTIMEZONE
BEGIN:VEVENT
DTSTART;TZID=America/New_York:20260210T170000
DTEND;TZID=America/New_York:20260210T210000
DTSTAMP:20260424T081318
CREATED:20260112T214349Z
LAST-MODIFIED:20260126T165217Z
UID:10000155-1770742800-1770757200@jcdrummond.ca
SUMMARY:Lancement du Concours Élan CAE Drummond 2026
DESCRIPTION:✨ La Jeune Chambre de Drummond est fière de vous inviter au lancement officiel du Concours Élan CAE Drummond 2026 ! ✨ \nJoignez-vous à nous lors d’un 5 à 7 rassembleur où vous découvrirez tout ce qu’il faut savoir sur ce concours incontournable\, qui met en lumière l’audace\, l’innovation et l’engagement de la jeune communauté d’affaires de la MRC de Drummond. \nSoyez parmi les premiers à lever le voile sur les catégories des deux grands volets du concours — entrepreneurial et reconnaissance — incluant nos catégories phares ainsi que les nouveautés pour 2026. \nVous songez à déposer votre candidature ou êtes simplement curieux d’en savoir plus ? C’est LE moment parfait pour poser vos questions ! Le comité du Concours Élan sera sur place pour vous guider\, vous informer et vous aider à maximiser vos chances de succès. \n👉Ne manquez pas ce rendez-vous inspirant\, propulseur d’idées et de talents. On vous attend ! \nDate: 10 février 2026 \nHeure: 17h00 \nLieu: 800\, rue du Campanile (dans une maison modèle de Construction Brouillette: finaliste de la catégorie Repreneuriat du Concours Élan 2025) \nPrix: membre: 30$ \nnon-membre : 50$ \nBouchées et cocktail de bienvenue seront offerts pour bien lancer la soirée ! \nInscription avant le 6 février 16h00 \n✨ En plus\, l’équipe de Construction Brouillette sera présente !✨ Vous avez un projet de maison neuve en tête ou souhaitez obtenir de l’information pour un projet futur ? Profitez de l’occasion pour échanger directement avec eux\, ils seront sur place pour répondre à vos questions. \n👉 Un 5 à 7 inspirant\, informatif et riche en opportunités — ne manquez pas ça ! \nPour les plus créatifs.ves et pour ceux et celles qui ont gardé leur coeur d’enfant\, des legos seront à votre disposition dans une pièce pour construire votre maison de rêve 😄 \nJe réserve ma place 
URL:https://jcdrummond.ca/evenement/lancement-du-concours-elan-cae-drummond-2026/
LOCATION:Maison Modèle Construction Brouillettte\, 800 Rue Du Campanile\, Drummondville\, Québec\, J2B 0M6\, Canada
ATTACH;FMTTYPE=image/jpeg:https://jcdrummond.ca/wp-content/uploads/2026/01/lancement-elan_2026_v3-1.jpg
END:VEVENT
END:VCALENDAR