BEGIN:VCALENDAR
VERSION:2.0
PRODID:-//Jeune Chambre de Drummond - ECPv6.15.20//NONSGML v1.0//EN
CALSCALE:GREGORIAN
METHOD:PUBLISH
X-ORIGINAL-URL:https://jcdrummond.ca
X-WR-CALDESC:Évènements pour Jeune Chambre de Drummond
REFRESH-INTERVAL;VALUE=DURATION:PT1H
X-Robots-Tag:noindex
X-PUBLISHED-TTL:PT1H
BEGIN:VTIMEZONE
TZID:America/New_York
BEGIN:DAYLIGHT
TZOFFSETFROM:-0500
TZOFFSETTO:-0400
TZNAME:EDT
DTSTART:20250309T070000
END:DAYLIGHT
BEGIN:STANDARD
TZOFFSETFROM:-0400
TZOFFSETTO:-0500
TZNAME:EST
DTSTART:20251102T060000
END:STANDARD
BEGIN:DAYLIGHT
TZOFFSETFROM:-0500
TZOFFSETTO:-0400
TZNAME:EDT
DTSTART:20260308T070000
END:DAYLIGHT
BEGIN:STANDARD
TZOFFSETFROM:-0400
TZOFFSETTO:-0500
TZNAME:EST
DTSTART:20261101T060000
END:STANDARD
BEGIN:DAYLIGHT
TZOFFSETFROM:-0500
TZOFFSETTO:-0400
TZNAME:EDT
DTSTART:20270314T070000
END:DAYLIGHT
BEGIN:STANDARD
TZOFFSETFROM:-0400
TZOFFSETTO:-0500
TZNAME:EST
DTSTART:20271107T060000
END:STANDARD
END:VTIMEZONE
BEGIN:VEVENT
DTSTART;TZID=America/New_York:20260602T173000
DTEND;TZID=America/New_York:20260602T220000
DTSTAMP:20260421T221433
CREATED:20260420T180457Z
LAST-MODIFIED:20260420T182514Z
UID:10000167-1780421400-1780437600@jcdrummond.ca
SUMMARY:Humains en affaires: Esprit entrepreneur d'ici et d'ailleurs
DESCRIPTION:La Jeune Chambre de Drummond et UV Assurance sont fiers de vous inviter à un événement unique à Drummondville : \nHumains en affaires: Esprit entrepreneur d’ici et d’ailleurs \nCette soirée se veut un moment d’échanges humains\, authentiques et enrichissants entre les entrepreneur·e·s de différentes nationalités présents et actifs dans la MRC de Drummond.\nSous la formule tables tournantes (changement de table à chaque service du repas)\, nous souhaitons créer un espace simple et convivial où chaque participant·e pourra échanger sur\n• son entreprise\n• son parcours\n• sa réalité d’affaires\n• ses enjeux\n• et une multitude d’autres sujets qui émergeront naturellement des discussions\n________________________________________\n📅 Date : Mardi 2 juin\n⏰ Heure : Dès 17 h 30\n📍 Lieu : Restaurant Casa Mex (propriétaire Khadija Bahi)\n(750\, boul. René-Lévesque\, Drummondville) \n🍽 Formule\nTables tournantes : à chaque service du repas (entrée\, plat principal\, dessert)\, les participant·e·s changent de table afin d’aller à la rencontre de nouvelles personnes en petits groupes.\n________________________________________\n🗓 Déroulement de la soirée\n• 17 h 30 à 18 h 00 : Cocktail de bienvenue et réseautage libre\n• 18 h 00 à 18 h 15 : Mot de bienvenue et allocutions\n• 18 h 15 à 20 h 15 : Entrée\, repas et dessert avec rotations de table à chaque service\n• 20 h 15 à … : Réseautage libre \n💲Tous : 65$ \n  \nDate limite pour réserver ta place : 25 mai 2026 16h00 \nJe réserve ma place dès maintenant\n  \n 
URL:https://jcdrummond.ca/evenement/humains-en-affaires-esprit-entrepreneur-dici-et-dailleurs/
LOCATION:Casa Mex\, 750\, boul. René-Lévesque\, Drummondville\, Québec\, J2C 7N7\, Canada
ATTACH;FMTTYPE=image/png:https://jcdrummond.ca/wp-content/uploads/2026/04/Montage-Humains-en-affaires-3-scaled.png
END:VEVENT
END:VCALENDAR