BEGIN:VCALENDAR
VERSION:2.0
PRODID:-//Jeune Chambre de Drummond - ECPv6.15.20//NONSGML v1.0//EN
CALSCALE:GREGORIAN
METHOD:PUBLISH
X-ORIGINAL-URL:https://jcdrummond.ca
X-WR-CALDESC:Évènements pour Jeune Chambre de Drummond
REFRESH-INTERVAL;VALUE=DURATION:PT1H
X-Robots-Tag:noindex
X-PUBLISHED-TTL:PT1H
BEGIN:VTIMEZONE
TZID:America/New_York
BEGIN:DAYLIGHT
TZOFFSETFROM:-0500
TZOFFSETTO:-0400
TZNAME:EDT
DTSTART:20210314T070000
END:DAYLIGHT
BEGIN:STANDARD
TZOFFSETFROM:-0400
TZOFFSETTO:-0500
TZNAME:EST
DTSTART:20211107T060000
END:STANDARD
BEGIN:DAYLIGHT
TZOFFSETFROM:-0500
TZOFFSETTO:-0400
TZNAME:EDT
DTSTART:20220313T070000
END:DAYLIGHT
BEGIN:STANDARD
TZOFFSETFROM:-0400
TZOFFSETTO:-0500
TZNAME:EST
DTSTART:20221106T060000
END:STANDARD
BEGIN:DAYLIGHT
TZOFFSETFROM:-0500
TZOFFSETTO:-0400
TZNAME:EDT
DTSTART:20230312T070000
END:DAYLIGHT
BEGIN:STANDARD
TZOFFSETFROM:-0400
TZOFFSETTO:-0500
TZNAME:EST
DTSTART:20231105T060000
END:STANDARD
BEGIN:DAYLIGHT
TZOFFSETFROM:-0500
TZOFFSETTO:-0400
TZNAME:EDT
DTSTART:20240310T070000
END:DAYLIGHT
BEGIN:STANDARD
TZOFFSETFROM:-0400
TZOFFSETTO:-0500
TZNAME:EST
DTSTART:20241103T060000
END:STANDARD
BEGIN:DAYLIGHT
TZOFFSETFROM:-0500
TZOFFSETTO:-0400
TZNAME:EDT
DTSTART:20250309T070000
END:DAYLIGHT
BEGIN:STANDARD
TZOFFSETFROM:-0400
TZOFFSETTO:-0500
TZNAME:EST
DTSTART:20251102T060000
END:STANDARD
END:VTIMEZONE
BEGIN:VEVENT
DTSTART;TZID=America/New_York:20241121T170000
DTEND;TZID=America/New_York:20241121T190000
DTSTAMP:20260424T101552
CREATED:20241106T150353Z
LAST-MODIFIED:20241108T145348Z
UID:10000124-1732208400-1732215600@jcdrummond.ca
SUMMARY:Héritières d'ici - 5 à 7 festif - Histoire au féminin
DESCRIPTION:Le comité Leadership au Féminin de la Jeune Chambre de Drummond vous invite à un 5 à 7 festif sous la thématique Héritières d’ici – Histoire au féminin ! \nLa Société d’histoire de Drummond vous ouvre les portes de ses magnifiques locaux ! Cet organisme à but non lucratif\, dirigé par des passionnés\, a pour mission de faire connaître l’histoire et les valeurs patrimoniales de la MRC de Drummond. La Société vous réserve de belles surprises ! \nVenez réseauter et découvrir le parcours inspirant de femmes ayant marqué Drummondville. Ce 5 à 7 inclusif vous offrira également l’opportunité d’échanger sur des thématiques variées autour de la place des femmes dans les sphères politique\, économique et culturelle. \nC’est un rendez-vous aux locaux de la Société situés à la Bibliothèque publique de Drummondville le 21 novembre prochain dès 17 h ! \nBillets
URL:https://jcdrummond.ca/evenement/heritieres-dici-5-a-7-festif-et-histoire-au-feminin/
LOCATION:Bibliothèque publique de Drummondville\, 425\, rue des Forges\, Drummondville\, Québec\, J2B 0G4\, Canada
CATEGORIES:Réseautage
END:VEVENT
BEGIN:VEVENT
DTSTART;TZID=America/New_York:20221122T073000
DTEND;TZID=America/New_York:20221122T090000
DTSTAMP:20260424T101552
CREATED:20221024T135314Z
LAST-MODIFIED:20221024T171829Z
UID:10000088-1669102200-1669107600@jcdrummond.ca
SUMMARY:Toasts et confidences avec M. Richard Voyer
DESCRIPTION:La Jeune Chambre de Drummond revient pour une 2e édition avec son déjeuner Toasts et confidences !\n\n\nCette année\, nous sommes très heureux d’avoir M. Richard Voyer\, Vice-président exécutif et chef de la direction Soprema\, Amérique du Nord comme invité et confident.\n\n\nVenez découvrir son parcours personnel et professionnel\, ses expériences\, ses anecdotes de vie\, bref l’humain derrière l’homme à la barre de Soprema Amérique du Nord.\n\n\nUne belle occasion de développer votre réseau et de démarrer votre journée avec un bon déjeuner !\n\n\nPuisqu’il s’agit d’un événement qui se veut chaleureux et intime\, le nombre de places disponibles est limité\, faites vite pour acheter votre billet !
URL:https://jcdrummond.ca/evenement/toasts-et-confidences-avec-m-richard-voyer/
LOCATION:Bibliothèque publique de Drummondville\, 425\, rue des Forges\, Drummondville\, Québec\, J2B 0G4\, Canada
CATEGORIES:Grands événements,Réseautage
END:VEVENT
END:VCALENDAR