BEGIN:VCALENDAR
VERSION:2.0
PRODID:-//Jeune Chambre de Drummond - ECPv6.15.20//NONSGML v1.0//EN
CALSCALE:GREGORIAN
METHOD:PUBLISH
X-ORIGINAL-URL:https://jcdrummond.ca
X-WR-CALDESC:Évènements pour Jeune Chambre de Drummond
REFRESH-INTERVAL;VALUE=DURATION:PT1H
X-Robots-Tag:noindex
X-PUBLISHED-TTL:PT1H
BEGIN:VTIMEZONE
TZID:America/New_York
BEGIN:DAYLIGHT
TZOFFSETFROM:-0500
TZOFFSETTO:-0400
TZNAME:EDT
DTSTART:20230312T070000
END:DAYLIGHT
BEGIN:STANDARD
TZOFFSETFROM:-0400
TZOFFSETTO:-0500
TZNAME:EST
DTSTART:20231105T060000
END:STANDARD
BEGIN:DAYLIGHT
TZOFFSETFROM:-0500
TZOFFSETTO:-0400
TZNAME:EDT
DTSTART:20240310T070000
END:DAYLIGHT
BEGIN:STANDARD
TZOFFSETFROM:-0400
TZOFFSETTO:-0500
TZNAME:EST
DTSTART:20241103T060000
END:STANDARD
BEGIN:DAYLIGHT
TZOFFSETFROM:-0500
TZOFFSETTO:-0400
TZNAME:EDT
DTSTART:20250309T070000
END:DAYLIGHT
BEGIN:STANDARD
TZOFFSETFROM:-0400
TZOFFSETTO:-0500
TZNAME:EST
DTSTART:20251102T060000
END:STANDARD
END:VTIMEZONE
BEGIN:VEVENT
DTSTART;TZID=America/New_York:20240627T170000
DTEND;TZID=America/New_York:20240627T200000
DTSTAMP:20260424T161803
CREATED:20240607T162228Z
LAST-MODIFIED:20240607T162833Z
UID:10000066-1719507600-1719518400@jcdrummond.ca
SUMMARY:5 à 7 Bulles et Trouvailles
DESCRIPTION:Le comité Leadership au Féminin de la Jeune Chambre de Drummond vous invite à un 5 à 7 sous la thématique Bulles et Trouvailles ! \nVous pourrez rencontrer les membres de notre comité ainsi que la propriétaire qui prendra un moment pour vous partager son histoire. Nous vous invitons également à faire le don de vêtements de qualité et 40% des profits de la vente de ces morceaux seront remis à la recherche en pédiatrie. Comme il s’agit d’une friperie haut de gamme\, vos vêtements doivent être en excellente qualité\, c’est à dire être de saison\, à la mode\, fraichement lavés\, exempts de taches\, de trous et de poils. \nVotre billet inclus des bouchées et bien évidement des bulles ! \nC’est un rendez-vous à la Boutique Seconde main le 27 juin prochain dès 17h00 et pour l’occasion vous pourrez combiner réseautage\, magasinage et rencontres inspirantes !
URL:https://jcdrummond.ca/evenement/5-a-7-bulles-et-trouvailles/
LOCATION:Boutique Seconde Main\, 1149\, Boulevard Foucault\, Drummondville\, Québec\, J2C 1B2\, Canada
CATEGORIES:Réseautage
END:VEVENT
END:VCALENDAR