BEGIN:VCALENDAR
VERSION:2.0
PRODID:-//Jeune Chambre de Drummond - ECPv6.15.20//NONSGML v1.0//EN
CALSCALE:GREGORIAN
METHOD:PUBLISH
X-WR-CALNAME:Jeune Chambre de Drummond
X-ORIGINAL-URL:https://jcdrummond.ca
X-WR-CALDESC:Évènements pour Jeune Chambre de Drummond
REFRESH-INTERVAL;VALUE=DURATION:PT1H
X-Robots-Tag:noindex
X-PUBLISHED-TTL:PT1H
BEGIN:VTIMEZONE
TZID:America/New_York
BEGIN:DAYLIGHT
TZOFFSETFROM:-0500
TZOFFSETTO:-0400
TZNAME:EDT
DTSTART:20220313T070000
END:DAYLIGHT
BEGIN:STANDARD
TZOFFSETFROM:-0400
TZOFFSETTO:-0500
TZNAME:EST
DTSTART:20221106T060000
END:STANDARD
BEGIN:DAYLIGHT
TZOFFSETFROM:-0500
TZOFFSETTO:-0400
TZNAME:EDT
DTSTART:20230312T070000
END:DAYLIGHT
BEGIN:STANDARD
TZOFFSETFROM:-0400
TZOFFSETTO:-0500
TZNAME:EST
DTSTART:20231105T060000
END:STANDARD
BEGIN:DAYLIGHT
TZOFFSETFROM:-0500
TZOFFSETTO:-0400
TZNAME:EDT
DTSTART:20240310T070000
END:DAYLIGHT
BEGIN:STANDARD
TZOFFSETFROM:-0400
TZOFFSETTO:-0500
TZNAME:EST
DTSTART:20241103T060000
END:STANDARD
BEGIN:DAYLIGHT
TZOFFSETFROM:-0500
TZOFFSETTO:-0400
TZNAME:EDT
DTSTART:20250309T070000
END:DAYLIGHT
BEGIN:STANDARD
TZOFFSETFROM:-0400
TZOFFSETTO:-0500
TZNAME:EST
DTSTART:20251102T060000
END:STANDARD
END:VTIMEZONE
BEGIN:VEVENT
DTSTART;TZID=America/New_York:20240319T170000
DTEND;TZID=America/New_York:20240319T220000
DTSTAMP:20260423T062127
CREATED:20240305T162922Z
LAST-MODIFIED:20240305T164010Z
UID:10000063-1710867600-1710885600@jcdrummond.ca
SUMMARY:5 à 7 Soirée aux Voltigeurs
DESCRIPTION:Chers membres amateurs de Hockey et de réseautage\, voici le 5 à 7 à ne pas manquer ! \nVenez encourager nos Rouges ici à Drummondville dans le cadre d’un 5 à 7 réseautage lors du dernier match de la saison régulière le 19 mars prochain ! \nPour seulement 20$ tu auras d’inclus : \n– Une consommation\n– Un billet pour le match des Voltigeurs en soirée\n– Une belle soirée de réseautage \nNe manquez pas cette soirée 100% réseautage et hockey ! \nSoirée exclusive aux membres de la JCD !
URL:https://jcdrummond.ca/evenement/5-a-7-soiree-aux-voltigeurs/
LOCATION:Centre Marcel Dionne\, 300 Rue Cockburn\, Drummondville\, Québec\, J2C 4L6\, Canada
CATEGORIES:Réseautage
END:VEVENT
BEGIN:VEVENT
DTSTART;TZID=America/New_York:20230302T170000
DTEND;TZID=America/New_York:20230302T213000
DTSTAMP:20260423T062127
CREATED:20230214T185645Z
LAST-MODIFIED:20230220T230915Z
UID:10000100-1677776400-1677792600@jcdrummond.ca
SUMMARY:5 à 7 - Voltigeurs de Drummondville
DESCRIPTION:Chers membres amateurs de Hockey et de réseautage\, voici le 5 à 7 à ne pas manquer ! \nOn dit souvent que plus grandes ententes d’affaires se font dans les loges du Centre Bell ! \nÀ défaut de se déplacer à Montréal\, venez encourager nos Rouges ici à Drummondville dans le cadre d’un 5 à 7 réseautage lors du match du 02 mars prochain ! \nPour seulement 10$ tu auras d’inclus : \n– Une consommation\n– Un billet pour le match des Voltigeurs en soirée\n– Une belle soirée de réseautage \nNe manquez pas cette soirée 100% réseautage et hockey ! \nSoirée exclusive aux membres de la JCD !
URL:https://jcdrummond.ca/evenement/5-a-7-voltigeurs-de-drummondville/
LOCATION:Centre Marcel Dionne\, 300 Rue Cockburn\, Drummondville\, Québec\, J2C 4L6\, Canada
CATEGORIES:Calendrier de nos événements,Réseautage
END:VEVENT
END:VCALENDAR