BEGIN:VCALENDAR
VERSION:2.0
PRODID:-//Jeune Chambre de Drummond - ECPv6.15.20//NONSGML v1.0//EN
CALSCALE:GREGORIAN
METHOD:PUBLISH
X-WR-CALNAME:Jeune Chambre de Drummond
X-ORIGINAL-URL:https://jcdrummond.ca
X-WR-CALDESC:Évènements pour Jeune Chambre de Drummond
REFRESH-INTERVAL;VALUE=DURATION:PT1H
X-Robots-Tag:noindex
X-PUBLISHED-TTL:PT1H
BEGIN:VTIMEZONE
TZID:America/New_York
BEGIN:DAYLIGHT
TZOFFSETFROM:-0500
TZOFFSETTO:-0400
TZNAME:EDT
DTSTART:20220313T070000
END:DAYLIGHT
BEGIN:STANDARD
TZOFFSETFROM:-0400
TZOFFSETTO:-0500
TZNAME:EST
DTSTART:20221106T060000
END:STANDARD
BEGIN:DAYLIGHT
TZOFFSETFROM:-0500
TZOFFSETTO:-0400
TZNAME:EDT
DTSTART:20230312T070000
END:DAYLIGHT
BEGIN:STANDARD
TZOFFSETFROM:-0400
TZOFFSETTO:-0500
TZNAME:EST
DTSTART:20231105T060000
END:STANDARD
BEGIN:DAYLIGHT
TZOFFSETFROM:-0500
TZOFFSETTO:-0400
TZNAME:EDT
DTSTART:20240310T070000
END:DAYLIGHT
BEGIN:STANDARD
TZOFFSETFROM:-0400
TZOFFSETTO:-0500
TZNAME:EST
DTSTART:20241103T060000
END:STANDARD
END:VTIMEZONE
BEGIN:VEVENT
DTSTART;TZID=America/New_York:20230927T170000
DTEND;TZID=America/New_York:20230927T210000
DTSTAMP:20260425T092520
CREATED:20230825T132111Z
LAST-MODIFIED:20230911T141602Z
UID:10000108-1695834000-1695848400@jcdrummond.ca
SUMMARY:Lancement de la saison 2023-2024
DESCRIPTION:À l’occasion de notre lancement de saison 2023-2024\, l’équipe de la Jeune Chambre de Drummond est heureuse de vous inviter à notre 5 à 7 de réseautage qui se tiendra dans les nouveaux locaux de Drummondville Volkswagen !  \nLors de cet événement\, nous vous dévoilerons la programmation des activités pour la prochaine saison ainsi que plusieurs nouveautés ! \nEn plus\, ce sera l’occasion de découvrir les membres de notre conseil d’administration et de la permanence qui seront présents pour réseauter avec vous ! \nNous avons très hâte de vous accueillir à cette soirée ! \nOn se donne donc rendez-vous\, MERCREDI 27 SEPTEMBRE dès 17h !
URL:https://jcdrummond.ca/evenement/lancement-de-la-saison-2023-2024/
LOCATION:Drummondville Volkswagen\, 30\, rue Robert Bernard\, Drummondville\, Québec\, J2C 8N1\, Canada
END:VEVENT
END:VCALENDAR