BEGIN:VCALENDAR
VERSION:2.0
PRODID:-//Jeune Chambre de Drummond - ECPv6.15.20//NONSGML v1.0//EN
CALSCALE:GREGORIAN
METHOD:PUBLISH
X-ORIGINAL-URL:https://jcdrummond.ca
X-WR-CALDESC:Évènements pour Jeune Chambre de Drummond
REFRESH-INTERVAL;VALUE=DURATION:PT1H
X-Robots-Tag:noindex
X-PUBLISHED-TTL:PT1H
BEGIN:VTIMEZONE
TZID:America/New_York
BEGIN:DAYLIGHT
TZOFFSETFROM:-0500
TZOFFSETTO:-0400
TZNAME:EDT
DTSTART:20230312T070000
END:DAYLIGHT
BEGIN:STANDARD
TZOFFSETFROM:-0400
TZOFFSETTO:-0500
TZNAME:EST
DTSTART:20231105T060000
END:STANDARD
BEGIN:DAYLIGHT
TZOFFSETFROM:-0500
TZOFFSETTO:-0400
TZNAME:EDT
DTSTART:20240310T070000
END:DAYLIGHT
BEGIN:STANDARD
TZOFFSETFROM:-0400
TZOFFSETTO:-0500
TZNAME:EST
DTSTART:20241103T060000
END:STANDARD
BEGIN:DAYLIGHT
TZOFFSETFROM:-0500
TZOFFSETTO:-0400
TZNAME:EDT
DTSTART:20250309T070000
END:DAYLIGHT
BEGIN:STANDARD
TZOFFSETFROM:-0400
TZOFFSETTO:-0500
TZNAME:EST
DTSTART:20251102T060000
END:STANDARD
END:VTIMEZONE
BEGIN:VEVENT
DTSTART;TZID=America/New_York:20240227T170000
DTEND;TZID=America/New_York:20240227T200000
DTSTAMP:20260424T223436
CREATED:20230928T141443Z
LAST-MODIFIED:20240214T153206Z
UID:10000114-1709053200-1709064000@jcdrummond.ca
SUMMARY:Lancement du Concours Élan CAE Drummond 2024
DESCRIPTION:L’édition 2024 du Concours Élan CAE Drummond sera officiellement lancée mardi le 27 février 2024 dès 17h00 ! \nNous sommes très heureux de vous inviter dans les locaux de Foliflor (Gagnant Élan Croissance 2023) pour vous faire découvrir cette entreprise florissante de Drummondville qui a remporté les grands honneurs du Concours Élan CAE Drummond 2023. \nLors de ce 5 à 9 divertissant\, plusieurs nouveautés seront annoncés concernant l’édition 2024 du Concours Élan CAE Drummond et la période de mise en candidature sera également lancée lors de cette soirée ! \nC’est un rendez-vous mardi\, le 27 février dès 17h00 !
URL:https://jcdrummond.ca/evenement/lancement-du-concours-elan-cae-drummond-2/
LOCATION:Foliflor\, 3395\, Chemin Terra-Jet\, Saint-Cyrille-de-Wendover\, Qc\, J1Z 1B2\, Canada
CATEGORIES:Grands événements,Réseautage
END:VEVENT
END:VCALENDAR