BEGIN:VCALENDAR
VERSION:2.0
PRODID:-//Jeune Chambre de Drummond - ECPv6.15.20//NONSGML v1.0//EN
CALSCALE:GREGORIAN
METHOD:PUBLISH
X-WR-CALNAME:Jeune Chambre de Drummond
X-ORIGINAL-URL:https://jcdrummond.ca
X-WR-CALDESC:Évènements pour Jeune Chambre de Drummond
REFRESH-INTERVAL;VALUE=DURATION:PT1H
X-Robots-Tag:noindex
X-PUBLISHED-TTL:PT1H
BEGIN:VTIMEZONE
TZID:America/New_York
BEGIN:DAYLIGHT
TZOFFSETFROM:-0500
TZOFFSETTO:-0400
TZNAME:EDT
DTSTART:20230312T070000
END:DAYLIGHT
BEGIN:STANDARD
TZOFFSETFROM:-0400
TZOFFSETTO:-0500
TZNAME:EST
DTSTART:20231105T060000
END:STANDARD
BEGIN:DAYLIGHT
TZOFFSETFROM:-0500
TZOFFSETTO:-0400
TZNAME:EDT
DTSTART:20240310T070000
END:DAYLIGHT
BEGIN:STANDARD
TZOFFSETFROM:-0400
TZOFFSETTO:-0500
TZNAME:EST
DTSTART:20241103T060000
END:STANDARD
BEGIN:DAYLIGHT
TZOFFSETFROM:-0500
TZOFFSETTO:-0400
TZNAME:EDT
DTSTART:20250309T070000
END:DAYLIGHT
BEGIN:STANDARD
TZOFFSETFROM:-0400
TZOFFSETTO:-0500
TZNAME:EST
DTSTART:20251102T060000
END:STANDARD
END:VTIMEZONE
BEGIN:VEVENT
DTSTART;TZID=America/New_York:20240904T170000
DTEND;TZID=America/New_York:20240904T200000
DTSTAMP:20260424T133256
CREATED:20240829T145941Z
LAST-MODIFIED:20240829T150719Z
UID:10000067-1725469200-1725480000@jcdrummond.ca
SUMMARY:Assemblée générale annuelle 2024
DESCRIPTION:C’est déjà le temps de conclure l’année 2023-2024 de la JCD et nous vous invitons à notre AGA qui sera suivie d’un 5 à 9 festif au Looba. \nPour participer à l’Assemblée générale annuelle à titre de membre votant\, il est obligatoire d’être actuellement membre ou de remplir d’ici le 4 septembre 2024\, votre formulaire d’adhésion et de compléter votre paiement pour devenir membre. \nLes états financiers 2023-2024 ainsi que le rapport d’activités 2023-2024 vous seront déposés séance tenante. \nAu plaisir de vous rencontrer le 4 septembre prochain. \nBilletterie Weezevent
URL:https://jcdrummond.ca/evenement/assemblee-generale-annuelle-2024/
LOCATION:Looba\, 234\, rue Heriot\, Drummondville\, QC\, J2C 1K1\, Canada
CATEGORIES:Calendrier de nos événements,Grands événements,Réseautage
END:VEVENT
END:VCALENDAR