BEGIN:VCALENDAR
VERSION:2.0
PRODID:-//Jeune Chambre de Drummond - ECPv6.15.20//NONSGML v1.0//EN
CALSCALE:GREGORIAN
METHOD:PUBLISH
X-ORIGINAL-URL:https://jcdrummond.ca
X-WR-CALDESC:Évènements pour Jeune Chambre de Drummond
REFRESH-INTERVAL;VALUE=DURATION:PT1H
X-Robots-Tag:noindex
X-PUBLISHED-TTL:PT1H
BEGIN:VTIMEZONE
TZID:America/New_York
BEGIN:DAYLIGHT
TZOFFSETFROM:-0500
TZOFFSETTO:-0400
TZNAME:EDT
DTSTART:20230312T070000
END:DAYLIGHT
BEGIN:STANDARD
TZOFFSETFROM:-0400
TZOFFSETTO:-0500
TZNAME:EST
DTSTART:20231105T060000
END:STANDARD
BEGIN:DAYLIGHT
TZOFFSETFROM:-0500
TZOFFSETTO:-0400
TZNAME:EDT
DTSTART:20240310T070000
END:DAYLIGHT
BEGIN:STANDARD
TZOFFSETFROM:-0400
TZOFFSETTO:-0500
TZNAME:EST
DTSTART:20241103T060000
END:STANDARD
BEGIN:DAYLIGHT
TZOFFSETFROM:-0500
TZOFFSETTO:-0400
TZNAME:EDT
DTSTART:20250309T070000
END:DAYLIGHT
BEGIN:STANDARD
TZOFFSETFROM:-0400
TZOFFSETTO:-0500
TZNAME:EST
DTSTART:20251102T060000
END:STANDARD
END:VTIMEZONE
BEGIN:VEVENT
DTSTART;TZID=America/New_York:20240613T170000
DTEND;TZID=America/New_York:20240613T200000
DTSTAMP:20260424T174645
CREATED:20240531T121036Z
LAST-MODIFIED:20240531T121036Z
UID:10000065-1718298000-1718308800@jcdrummond.ca
SUMMARY:5 à Sun7 Réseautage
DESCRIPTION:Venez célébrer l’arrivée du beau temps ainsi que le 6e anniversaire de la Maison d’Herbes le 13 juin prochain sous la thématique 5 à Sun7 ! \nDans le cadre de cet activité réseautage exclusif aux membres\, vous aurez une consommation d’incluse\, la possibilité de manger sur place les succulents mets de la Maison d’Herbes et vous aurez aussi un rabais de 25% sur les plantes d’intérieur. \nEn plus\, c’est GRATUIT ! \nC’est un rendez-vous le 13 juin prochain à la Maison d’Herbes ! \n 
URL:https://jcdrummond.ca/evenement/5-a-sun7-reseautage/
LOCATION:Maison d’Herbes\, 330\, rue Lindsay\, Drummondville\, QC\, J2B 1G5\, Canada
END:VEVENT
END:VCALENDAR